BEGIN:VCALENDAR
VERSION:2.0
PRODID:-//Professional Achievement Program - ECPv6.10.2//NONSGML v1.0//EN
CALSCALE:GREGORIAN
METHOD:PUBLISH
X-WR-CALNAME:Professional Achievement Program
X-ORIGINAL-URL:https://community.mis.temple.edu/professionalachievement
X-WR-CALDESC:Events for Professional Achievement Program
REFRESH-INTERVAL;VALUE=DURATION:PT1H
X-Robots-Tag:noindex
X-PUBLISHED-TTL:PT1H
BEGIN:VTIMEZONE
TZID:America/New_York
BEGIN:DAYLIGHT
TZOFFSETFROM:-0500
TZOFFSETTO:-0400
TZNAME:EDT
DTSTART:20260308T070000
END:DAYLIGHT
BEGIN:STANDARD
TZOFFSETFROM:-0400
TZOFFSETTO:-0500
TZNAME:EST
DTSTART:20261101T060000
END:STANDARD
END:VTIMEZONE
BEGIN:VEVENT
DTSTART;TZID=America/New_York:20260114T120000
DTEND;TZID=America/New_York:20260114T133000
DTSTAMP:20260425T133525
CREATED:20251201T165921Z
LAST-MODIFIED:20260305T170041Z
UID:2062-1768392000-1768397400@community.mis.temple.edu
SUMMARY:Product & Innovation Testing
DESCRIPTION:The Product & Innovation Testing Tech Showcase brings together leading platforms that help research\, insights\, and product teams evaluate ideas and refine products before they reach the market. During this session\, each company will walk through how their solution works\, what problems it solves\, and the types of results teams can expect. \nIf your work involves concept testing\, product validation\, or innovation strategy\, this session gives you a clear look at practical tools that support faster decision-making and stronger product outcomes. You’ll see how different approaches compare\, hear directly from the experts behind each platform\, and leave with a better sense of which methods fit your team’s needs. \nKey Takeaways \nOverview of the Landscape – alternatives and complements to survey based testing such as IHUT\, remote qual/video feedback\, UX/prototype testing\, and in product experimentation. \nAI in Context – AI screening and auto-coding can shorten cycles\, but there are other ways it can help without undermining quality \nScale “Testing Mountain” – See how templates\, AI\, and other tools can help you scale a mountain of tests quickly and cost-effectively. \nTo register\, follow this link https://www.eventbrite.com/e/product-innovation-testing-tickets-1975622395768?utm-campaign=social&utm-content=attendeeshare&utm-medium=discovery&utm-term=listing&utm-source=cp&aff=ebdsshcopyurl     \nAs proof of attendance\, Have a screenshot of \n\nYour name visible in the participants list.\nThe beginning and end date and time visible on your computer’s taskbar.\nThe title of the meeting or webinar visible in the Zoom window.
URL:https://community.mis.temple.edu/professionalachievement/event/product-innovation-testing/
CATEGORIES:25 Points,Event
END:VEVENT
END:VCALENDAR